BEGIN:VCALENDAR
VERSION:2.0
PRODID:-//K94.5 - ECPv4.6.26//NONSGML v1.0//EN
CALSCALE:GREGORIAN
METHOD:PUBLISH
X-WR-CALNAME:K94.5
X-ORIGINAL-URL:https://k945.ca
X-WR-CALDESC:Events for K94.5
BEGIN:VEVENT
DTSTART;TZID=America/Halifax:20170626T073000
DTEND;TZID=America/Halifax:20170626T150000
DTSTAMP:20260423T100731
CREATED:20170606T185717Z
LAST-MODIFIED:20170606T190053Z
UID:4621-1498462200-1498489200@k945.ca
SUMMARY:Moncton Wildcats Celebrity Golf Classic
DESCRIPTION:The Moncton Wildcats Celebrity Golf Classic (Texas Scramble) will be happening on Monday\, June 26th at the Royal Oaks Golf Club. Registration and Continental Breakfast will be at 7:30am and Shotgun start will be at 8:30am. Dinner and entertainment will be immediately following the tournament. Guest speaker will be Curtis Joseph from the Toronto Maple Leafs. A donation from this event will be made to P.R.O Kids and the Moncton Wildcats Education Fund. \n \n
URL:https://k945.ca/event/moncton-wildcats-celebrity-golf-classic/
END:VEVENT
END:VCALENDAR