BEGIN:VCALENDAR
VERSION:2.0
PRODID:-//K94.5 - ECPv4.6.26//NONSGML v1.0//EN
CALSCALE:GREGORIAN
METHOD:PUBLISH
X-WR-CALNAME:K94.5
X-ORIGINAL-URL:https://k945.ca
X-WR-CALDESC:Events for K94.5
BEGIN:VEVENT
DTSTART;TZID=America/Halifax:20191017T190000
DTEND;TZID=America/Halifax:20191017T210000
DTSTAMP:20260422T141547
CREATED:20191008T180240Z
LAST-MODIFIED:20191008T180240Z
UID:12179-1571338800-1571346000@k945.ca
SUMMARY:Movie Night
DESCRIPTION:The Affirming Committee of Central United Church presents the movie “Before the Flood”\, the epic documentary about climate change\, starring Leonardo DiCaprio on Thursday\, October 17th from 7-9pm at the Community peace Centre\, 150 Queen St. entrance. Movie and snacks are FREE of charge. Come out and bring your friends! \n
URL:https://k945.ca/event/movie-night-5/
END:VEVENT
END:VCALENDAR