BEGIN:VCALENDAR
VERSION:2.0
PRODID:-//K94.5 - ECPv4.6.26//NONSGML v1.0//EN
CALSCALE:GREGORIAN
METHOD:PUBLISH
X-WR-CALNAME:K94.5
X-ORIGINAL-URL:https://k945.ca
X-WR-CALDESC:Events for K94.5
BEGIN:VEVENT
DTSTART;TZID=America/Halifax:20171028T153000
DTEND;TZID=America/Halifax:20171028T173000
DTSTAMP:20260424T112832
CREATED:20171024T134400Z
LAST-MODIFIED:20171024T134400Z
UID:6129-1509204600-1509211800@k945.ca
SUMMARY:Murray Corner United Church Turkey Supper
DESCRIPTION:The annual Murray Corner United Church Turkey Supper will be happening on Saturday\, October 28th. Route 955 Murray Corner. $15 for Adults and $8 for children 12 and under/ Preschool are FREE. Tickets on sale at 3:30 and serving will be at 4pm. Take Outs are available and all proceeds go to the church. \n
URL:https://k945.ca/event/murray-corner-united-church-turkey-supper/
END:VEVENT
END:VCALENDAR