BEGIN:VCALENDAR
VERSION:2.0
PRODID:-//K94.5 - ECPv4.6.26//NONSGML v1.0//EN
CALSCALE:GREGORIAN
METHOD:PUBLISH
X-WR-CALNAME:K94.5
X-ORIGINAL-URL:https://k945.ca
X-WR-CALDESC:Events for K94.5
BEGIN:VEVENT
DTSTART;TZID=America/Halifax:20190607T200000
DTEND;TZID=America/Halifax:20190609T233000
DTSTAMP:20260421T115105
CREATED:20190605T182011Z
LAST-MODIFIED:20190605T182011Z
UID:10621-1559937600-1560123000@k945.ca
SUMMARY:Neptune Drive-In
DESCRIPTION:Showing this weekend at the Neptune Drive-In\, June 7th-9th: \nThe Secret Life of Pets 2\, Rated PG \nA Dog’s Journey\, Rated PG \nBox office opens at 8pm and show starts at approximately 9:45pm \nSee their Facebook and Twitter for more info! \n \n
URL:https://k945.ca/event/neptune-drive-in-2/
END:VEVENT
END:VCALENDAR