BEGIN:VCALENDAR
VERSION:2.0
PRODID:-//K94.5 - ECPv4.6.26//NONSGML v1.0//EN
CALSCALE:GREGORIAN
METHOD:PUBLISH
X-WR-CALNAME:K94.5
X-ORIGINAL-URL:https://k945.ca
X-WR-CALDESC:Events for K94.5
BEGIN:VEVENT
DTSTART;TZID=America/Halifax:20180727T213000
DTEND;TZID=America/Halifax:20180729T233000
DTSTAMP:20260424T142027
CREATED:20180723T115443Z
LAST-MODIFIED:20180723T115443Z
UID:7435-1532727000-1532907000@k945.ca
SUMMARY:Neptune Drive-In Showtimes
DESCRIPTION:Showing this weekend at the Neptune Drive-In (July 27-29): \nScreen 1–Mission Impossible- Fallout\, Rated PG \nBook Club 2\, Rated PG \nScreen 2–Sgt. Stubby: An American Hero\, Rated PG \nThe Equalizer 2\, Rated 14A \nShowtime is approximately 9:30pm \nYou can now purchase tickets online! \nSee their Facebook page and Twitter for more info! \n \n
URL:https://k945.ca/event/neptune-drive-in-showtimes-25/
END:VEVENT
END:VCALENDAR