BEGIN:VCALENDAR
VERSION:2.0
PRODID:-//K94.5 - ECPv4.6.26//NONSGML v1.0//EN
CALSCALE:GREGORIAN
METHOD:PUBLISH
X-WR-CALNAME:K94.5
X-ORIGINAL-URL:https://k945.ca
X-WR-CALDESC:Events for K94.5
BEGIN:VEVENT
DTSTART;TZID=America/Halifax:20180601T213000
DTEND;TZID=America/Halifax:20180603T233000
DTSTAMP:20260424T100619
CREATED:20180528T123530Z
LAST-MODIFIED:20180528T123530Z
UID:6818-1527888600-1528068600@k945.ca
SUMMARY:Neptune Drive-In
DESCRIPTION:Showing this weekend @ the Neptune Drive-In\, June 1-3: \nOn Screen 1–Solo: A Star Wars Story\, Rated PG \nAvengers Infinity War\, Rated PG \nOn Screen 2–Adrift\, Rating TBA \nI feel Pretty\, Rated PG \n*YOU CAN NOW PURCHASE TICKETS ONLINE!* \nShowtime is approximately 9:35pm \nSee their Facebook page for more info! \n \n
URL:https://k945.ca/event/neptune-drive-in/
END:VEVENT
END:VCALENDAR