BEGIN:VCALENDAR
VERSION:2.0
PRODID:-//K94.5 - ECPv4.6.26//NONSGML v1.0//EN
CALSCALE:GREGORIAN
METHOD:PUBLISH
X-WR-CALNAME:K94.5
X-ORIGINAL-URL:https://k945.ca
X-WR-CALDESC:Events for K94.5
BEGIN:VEVENT
DTSTART;TZID=America/Halifax:20180809T210000
DTEND;TZID=America/Halifax:20180809T230000
DTSTAMP:20260424T112638
CREATED:20180605T181016Z
LAST-MODIFIED:20180605T181016Z
UID:6949-1533848400-1533855600@k945.ca
SUMMARY:Outdoor Cinema
DESCRIPTION:There will be an Outdoor Cinema on Thursday\, August 9th @ Place 1604\, 243 Gauvin Rd. in Dieppe. Showing tonight will be La Belle et la Bete (in French). Movie starts at dusk. \n
URL:https://k945.ca/event/outdoor-cinema-3/
END:VEVENT
END:VCALENDAR