BEGIN:VCALENDAR
VERSION:2.0
PRODID:-//K94.5 - ECPv4.6.26//NONSGML v1.0//EN
CALSCALE:GREGORIAN
METHOD:PUBLISH
X-WR-CALNAME:K94.5
X-ORIGINAL-URL:https://k945.ca
X-WR-CALDESC:Events for K94.5
BEGIN:VEVENT
DTSTART;TZID=America/Halifax:20220630T000000
DTEND;TZID=America/Halifax:20220825T000000
DTSTAMP:20260423T142416
CREATED:20220802T184520Z
LAST-MODIFIED:20220802T194643Z
UID:18049-1656547200-1661385600@k945.ca
SUMMARY:Outdoor Cinema
DESCRIPTION:Presented by Familiprix\, the Outdoor Cinema is back this summer! Taking place at various locations through the municipality\, join us starting at dusk for a movie night under the stars with the latest blockbuster movies projected onto a giant inflatable screen. Don’t forget to bring your chairs and blankets\, we’ll take care of the popcorn! \nAugust 11 – No Time To Die @ Place 1604 \nAugust 18 – Boss Baby: Family Business @ Dieppe Boys and Girls Club \nAugust 25 – Jurassic World: Dominion @ Place 1604 \n  \n*start times: approx. 9pm \n
URL:https://k945.ca/event/outdoor-cinema-6/
ATTACH;FMTTYPE=image/png:https://k945.ca/wp-content/uploads/sites/7/2022/08/CinemaPA_vignette.png
END:VEVENT
END:VCALENDAR