BEGIN:VCALENDAR
VERSION:2.0
PRODID:-//K94.5 - ECPv4.6.26//NONSGML v1.0//EN
CALSCALE:GREGORIAN
METHOD:PUBLISH
X-WR-CALNAME:K94.5
X-ORIGINAL-URL:https://k945.ca
X-WR-CALDESC:Events for K94.5
BEGIN:VEVENT
DTSTART;TZID=America/Halifax:20190223T070000
DTEND;TZID=America/Halifax:20190223T100000
DTSTAMP:20260421T012024
CREATED:20190219T152110Z
LAST-MODIFIED:20190219T152110Z
UID:9429-1550905200-1550916000@k945.ca
SUMMARY:Pancake Breakfast
DESCRIPTION:The Petitcodiac Legion will be having a Pancake Breakfast on Saturday\, February 23rd from 7-10am at the Legion\, Branch #41\, 18 Kay St. Cost is $8 for Adults\, $5 for Children ages 5-11 and FREE for 4 and under \n
URL:https://k945.ca/event/pancake-breakfast/
END:VEVENT
END:VCALENDAR