BEGIN:VCALENDAR
VERSION:2.0
PRODID:-//K94.5 - ECPv4.6.26//NONSGML v1.0//EN
CALSCALE:GREGORIAN
METHOD:PUBLISH
X-WR-CALNAME:K94.5
X-ORIGINAL-URL:https://k945.ca
X-WR-CALDESC:Events for K94.5
BEGIN:VEVENT
DTSTART;TZID=America/Halifax:20170228T170000
DTEND;TZID=America/Halifax:20170228T190000
DTSTAMP:20260423T152824
CREATED:20170217T132521Z
LAST-MODIFIED:20170217T132521Z
UID:3198-1488301200-1488308400@k945.ca
SUMMARY:Pancake Supper
DESCRIPTION:There will be a pancake supper which includes sausages\, beans\, beverage and dessert at the St. James Anglican Church\, 101 Fairview Drive (Fairview and St. George Blvd) on Tuesday\, February 28th from 5-7pm. All are welcome and cost is $8 per adult and $3 for children 10 and under. \n
URL:https://k945.ca/event/pancake-supper/
END:VEVENT
END:VCALENDAR