BEGIN:VCALENDAR
VERSION:2.0
PRODID:-//K94.5 - ECPv4.6.26//NONSGML v1.0//EN
CALSCALE:GREGORIAN
METHOD:PUBLISH
X-WR-CALNAME:K94.5
X-ORIGINAL-URL:https://k945.ca
X-WR-CALDESC:Events for K94.5
BEGIN:VEVENT
DTSTART;TZID=America/Halifax:20260808T200000
DTEND;TZID=America/Halifax:20260808T200000
DTSTAMP:20260421T230903
CREATED:20260408T113636Z
LAST-MODIFIED:20260408T113636Z
UID:22849-1786219200-1786219200@k945.ca
SUMMARY:Pauly Shore Live at Casino NB
DESCRIPTION:Pauly Shore – Casino NB – Saturday\, August 8\, 2026\, 8pm \n \nGet tickets here  \n
URL:https://k945.ca/event/pauly-shore-live-at-casino-nb/
ATTACH;FMTTYPE=image/jpeg:https://k945.ca/wp-content/uploads/sites/7/2026/04/618475205_1345905927577961_7983505407679685578_n.jpg
END:VEVENT
END:VCALENDAR