BEGIN:VCALENDAR
VERSION:2.0
PRODID:-//K94.5 - ECPv4.6.26//NONSGML v1.0//EN
CALSCALE:GREGORIAN
METHOD:PUBLISH
X-WR-CALNAME:K94.5
X-ORIGINAL-URL:https://k945.ca
X-WR-CALDESC:Events for K94.5
BEGIN:VEVENT
DTSTART;TZID=America/Halifax:20230401T140000
DTEND;TZID=America/Halifax:20230401T140000
DTSTAMP:20260423T100750
CREATED:20230330T113517Z
LAST-MODIFIED:20230330T114842Z
UID:18502-1680357600-1680357600@k945.ca
SUMMARY:Petitcodiac Figure Skating Club - Viva Ice Vegas!
DESCRIPTION:Join the Petitcodiac & District Figure Skating Club for an exciting time on ice Saturday\, April 1st at the Petitcodiac Arena — featuring two performance times! \n \n
URL:https://k945.ca/event/petitcodiac-figure-skating-club-viva-ice-vegas/
ATTACH;FMTTYPE=image/png:https://k945.ca/wp-content/uploads/sites/7/2023/03/Vegas1.png
END:VEVENT
END:VCALENDAR