BEGIN:VCALENDAR
VERSION:2.0
PRODID:-//K94.5 - ECPv4.6.26//NONSGML v1.0//EN
CALSCALE:GREGORIAN
METHOD:PUBLISH
X-WR-CALNAME:K94.5
X-ORIGINAL-URL:https://k945.ca
X-WR-CALDESC:Events for K94.5
BEGIN:VEVENT
DTSTART;TZID=America/Halifax:20180808T190000
DTEND;TZID=America/Halifax:20180808T203000
DTSTAMP:20260424T140219
CREATED:20180620T145822Z
LAST-MODIFIED:20180620T145822Z
UID:7146-1533754800-1533760200@k945.ca
SUMMARY:Riverview Art in the Park
DESCRIPTION:Caseley Park comes alive with free entertainment and local art every Wednesday! \nDon’t forget your chair and refillable water bottle. \n*Rain location: Riverview Community Hall\, 145A Lakeside Drive* \nFor more info visit http://townofriverview.ca/events \nWednesday\, August 8th (7-8:30pm)–Earle and Coffin will be playing (Blues) \n
URL:https://k945.ca/event/riverview-art-in-the-park-6/
END:VEVENT
END:VCALENDAR