BEGIN:VCALENDAR
VERSION:2.0
PRODID:-//K94.5 - ECPv4.6.26//NONSGML v1.0//EN
CALSCALE:GREGORIAN
METHOD:PUBLISH
X-WR-CALNAME:K94.5
X-ORIGINAL-URL:https://k945.ca
X-WR-CALDESC:Events for K94.5
BEGIN:VEVENT
DTSTART;TZID=America/Halifax:20180815T190000
DTEND;TZID=America/Halifax:20180815T203000
DTSTAMP:20260425T184708
CREATED:20180620T150208Z
LAST-MODIFIED:20180620T150208Z
UID:7148-1534359600-1534365000@k945.ca
SUMMARY:Riverview Art in the Park
DESCRIPTION:Caseley Park comes alive with free entertainment and local art every Wednesday! \nDon’t forget your chair and refillable water bottle. \n*Rain location: Riverview Community Hall\, 145A Lakeside Drive* \nFor more info visit http://townofriverview.ca/events \nWednesday\, August 15th (7-8:30pm)–Sean McCann will be playing (Folk) \n
URL:https://k945.ca/event/riverview-art-in-the-park-7/
END:VEVENT
END:VCALENDAR