BEGIN:VCALENDAR
VERSION:2.0
PRODID:-//K94.5 - ECPv4.6.26//NONSGML v1.0//EN
CALSCALE:GREGORIAN
METHOD:PUBLISH
X-WR-CALNAME:K94.5
X-ORIGINAL-URL:https://k945.ca
X-WR-CALDESC:Events for K94.5
BEGIN:VEVENT
DTSTART;TZID=America/Halifax:20260428T180000
DTEND;TZID=America/Halifax:20260428T200000
DTSTAMP:20260423T095815
CREATED:20260325T113810Z
LAST-MODIFIED:20260325T113810Z
UID:22679-1777399200-1777406400@k945.ca
SUMMARY:Riverview Dot Painting Workshop
DESCRIPTION:\n\n\n\n\n\n\n\n\n\n\nEvent by DotableMandalas\n\n\n\n\n\n\n\n\n\n\n\n\nWize Guyz Riverview\n\n\n\n\n\n\n\n\n\nCelebrate the joy of spring with Hoppy Dots & Spring Blooms Dot-Painting Workshop\, a cheerful dot-painting experience inspired by blooming flowers\, playful bunnies\, and fresh seasonal colours.\nThis fun\, guided workshop invites you to slow down\, get creative\, and enjoy the simple pleasure of painting one dot at a time.\nWhether you’re brand new to dot-painting or returning for another creative session\, you’ll be guided step-by-step to create a beautiful spring-themed piece you’ll be proud to take home.\nWorkshop Details:Date: Tuesday\, April 28th\, 2026Time: 6:00 PM to 8:00 PMLocation: Wize Guyz Pub 2002 – 710 Coverdale Rd\, Riverview\, NB\nNo prior experience is needed—just come ready to relax\, create\, and enjoy a mindful art experience.\nThis is a go-at-your-own-pace workshop\, making it easy to relax\, socialize\, and enjoy the moment. Guests are welcome to eat\, drink\, chat\, and create as they paint—there’s no pressure to keep up or rush through the process.\nWhether you’re coming with friends\, meeting new people\, or just enjoying some creative “me time\,” this workshop is designed to feel more like a cozy night out than a traditional art class. Paint\, sip\, snack\, laugh\, and let the dots come together naturally. \nSpaces are limited — Register early to secure your spot!\n\nTickets and info here \n\n\n\n\n\n\n\n\n\n\n
URL:https://k945.ca/event/riverview-dot-painting-workshop/
ATTACH;FMTTYPE=image/jpeg:https://k945.ca/wp-content/uploads/sites/7/2026/03/650389069_122121482127163911_9108003367870930997_n.jpg
END:VEVENT
END:VCALENDAR