BEGIN:VCALENDAR
VERSION:2.0
PRODID:-//K94.5 - ECPv4.6.26//NONSGML v1.0//EN
CALSCALE:GREGORIAN
METHOD:PUBLISH
X-WR-CALNAME:K94.5
X-ORIGINAL-URL:https://k945.ca
X-WR-CALDESC:Events for K94.5
BEGIN:VEVENT
DTSTART;TZID=America/Halifax:20170114T080000
DTEND;TZID=America/Halifax:20170114T110000
DTSTAMP:20260423T112247
CREATED:20161216T145643Z
LAST-MODIFIED:20161216T145643Z
UID:2768-1484380800-1484391600@k945.ca
SUMMARY:Riverview Lions Club Pancake Breakfast
DESCRIPTION:The Riverview Lions Club will be having a pancake breakfast on Saturday\, January 14th from 8-11am. Located at 701 Coverdale Rd in Riverview. Tickets are $6 for adults and free for children under 6 years old. Tickets will be sold at the door. All proceeds go to the Alzheimer Society. \n
URL:https://k945.ca/event/riverview-lions-club-pancake-breakfast/
END:VEVENT
END:VCALENDAR