BEGIN:VCALENDAR
VERSION:2.0
PRODID:-//K94.5 - ECPv4.6.26//NONSGML v1.0//EN
CALSCALE:GREGORIAN
METHOD:PUBLISH
X-WR-CALNAME:K94.5
X-ORIGINAL-URL:https://k945.ca
X-WR-CALDESC:Events for K94.5
BEGIN:VEVENT
DTSTART;TZID=America/Halifax:20260328T120000
DTEND;TZID=America/Halifax:20260328T160000
DTSTAMP:20260423T191548
CREATED:20260303T124931Z
LAST-MODIFIED:20260303T124931Z
UID:22582-1774699200-1774713600@k945.ca
SUMMARY:Riverview's Seedy Saturday - Riverview MapleFest
DESCRIPTION:\n\n\n\n\nEvent by Active Riverview\n\n\n\n\n\n\n\n\n\n\n\n\n50 Runneymeade Rd\, Riverview\, NB E1B 4M7\, Canada\n\n\n\n\n\n\n\n\n\n\n\n\nDuration: 4 hr\n\n\n\n\n\n\n\n\n\n\n\n\n\n\n\n\n\n\nSeedy Saturdays are a nationally recognized event supported by Seeds of Diversity Canada.\nThey are a combination of a seed swap\, vendors fair\, information session and so much more.\nCome visit to donate or collect free seeds\, visit and purchase from local farmers and seed vendors\, speak with local environmental groups\, and listen to our guest speaker – Bob Osborne of Cornhill Nursery.\n\nFree Entry as part of Riverview’s Maplefest\, but donations to the Albert County Food Bank will be accepted\n\n\n
URL:https://k945.ca/event/riverviews-seedy-saturday-riverview-maplefest/
ATTACH;FMTTYPE=image/jpeg:https://k945.ca/wp-content/uploads/sites/7/2026/03/615755903_1661142735339745_1913194564795620372_n.jpg
END:VEVENT
END:VCALENDAR