BEGIN:VCALENDAR
VERSION:2.0
PRODID:-//K94.5 - ECPv4.6.26//NONSGML v1.0//EN
CALSCALE:GREGORIAN
METHOD:PUBLISH
X-WR-CALNAME:K94.5
X-ORIGINAL-URL:https://k945.ca
X-WR-CALDESC:Events for K94.5
BEGIN:VEVENT
DTSTART;TZID=America/Halifax:20180601T133000
DTEND;TZID=America/Halifax:20180601T153000
DTSTAMP:20260422T002143
CREATED:20180522T123838Z
LAST-MODIFIED:20180522T123838Z
UID:6706-1527859800-1527867000@k945.ca
SUMMARY:Royal Road for Kids
DESCRIPTION:Riverview High School presents: Royal Road for Kids on Friday\, June 1st at Caseley park in Riverview from 1:30-3:30pm. There will inflatables\, BBQ\, bake sale\, watermelon eating contest\, water slides\, a dunk tank and much more! Proceeds will go to Crossroads for Women Inc. \n
URL:https://k945.ca/event/royal-road-for-kids/
END:VEVENT
END:VCALENDAR