BEGIN:VCALENDAR
VERSION:2.0
PRODID:-//K94.5 - ECPv4.6.26//NONSGML v1.0//EN
CALSCALE:GREGORIAN
METHOD:PUBLISH
X-WR-CALNAME:K94.5
X-ORIGINAL-URL:https://k945.ca
X-WR-CALDESC:Events for K94.5
BEGIN:VEVENT
DTSTART;TZID=America/Halifax:20241104T193000
DTEND;TZID=America/Halifax:20241104T193000
DTSTAMP:20260421T103111
CREATED:20240527T113634Z
LAST-MODIFIED:20240527T113644Z
UID:20603-1730748600-1730748600@k945.ca
SUMMARY:Sarah McLachlan: Fumbling Towards Ecstasy 30th Anniversary Tour
DESCRIPTION:It was her breakthrough album internationally — Sarah McLachlan is bringing the Fumbling Towards Ecstasy 30th Anniversary Tour to the Centre Avenir Centre Monday\, November 4th!! \n \nTickets on sale Friday\, May 31st at 10am. \nDoors open at 6:30pm; Show starts at 7:30pm. \nMore Info: Avenir Centre \n
URL:https://k945.ca/event/sarah-mclachlan-2024/
ATTACH;FMTTYPE=image/png:https://k945.ca/wp-content/uploads/sites/7/2024/05/sARAHmC.png
END:VEVENT
END:VCALENDAR