BEGIN:VCALENDAR
VERSION:2.0
PRODID:-//K94.5 - ECPv4.6.26//NONSGML v1.0//EN
CALSCALE:GREGORIAN
METHOD:PUBLISH
X-WR-CALNAME:K94.5
X-ORIGINAL-URL:https://k945.ca
X-WR-CALDESC:Events for K94.5
BEGIN:VEVENT
DTSTART;TZID=America/Halifax:20170801T080000
DTEND;TZID=America/Halifax:20170831T170000
DTSTAMP:20260422T233943
CREATED:20170801T141541Z
LAST-MODIFIED:20170801T142626Z
UID:5136-1501574400-1504198800@k945.ca
SUMMARY:School Supply Drive
DESCRIPTION:Moncton Headstart\, The Salvation Army and Food Depot Alimentaire have teamed up again for the 2017 School Supply Drive. This community outreach program helps Greater Moncton families who cannot afford to fill the lists of school supplies requested by their children’s schools. Donors who wish to donate can simply deposit supplies in any collection box at the offices or at all Jean Coutu pharmacies in Greater Moncton\, Giant Tiger on Mapleton as well as various workplaces. To learn more or to donate\, please visit : http://www.monctonheadstart.com\,  http://www.samonctoncfs.com or http://www.fooddepot.ca \n  \n
URL:https://k945.ca/event/school-supply-drive/
END:VEVENT
END:VCALENDAR