BEGIN:VCALENDAR
VERSION:2.0
PRODID:-//K94.5 - ECPv4.6.26//NONSGML v1.0//EN
CALSCALE:GREGORIAN
METHOD:PUBLISH
X-WR-CALNAME:K94.5
X-ORIGINAL-URL:https://k945.ca
X-WR-CALDESC:Events for K94.5
BEGIN:VEVENT
DTSTART;TZID=America/Halifax:20170101T130000
DTEND;TZID=America/Halifax:20170101T170000
DTSTAMP:20260424T135942
CREATED:20161212T124544Z
LAST-MODIFIED:20161212T124544Z
UID:2756-1483275600-1483290000@k945.ca
SUMMARY:Skating and Open Gym
DESCRIPTION:There will be skating\, open gym\, walking as well as activities in the multipurpose room at the Crossman Community Centre/ Kay Arena on Sunday\, January 1st from 1-5pm. This is free for the community. Start your year off on the right foot! \n99 Wynwood Drive\, Moncton \n
URL:https://k945.ca/event/skating-and-open-gym/
END:VEVENT
END:VCALENDAR