BEGIN:VCALENDAR
VERSION:2.0
PRODID:-//K94.5 - ECPv4.6.26//NONSGML v1.0//EN
CALSCALE:GREGORIAN
METHOD:PUBLISH
X-WR-CALNAME:K94.5
X-ORIGINAL-URL:https://k945.ca
X-WR-CALDESC:Events for K94.5
BEGIN:VEVENT
DTSTART;TZID=America/Halifax:20191030T180000
DTEND;TZID=America/Halifax:20191030T220000
DTSTAMP:20260423T100638
CREATED:20190920T150406Z
LAST-MODIFIED:20190920T150406Z
UID:11933-1572458400-1572472800@k945.ca
SUMMARY:"Sky is the Limit" Special Olympics Gala
DESCRIPTION:“The Sky is the Limit” Gala\, Presenting sponsor Nav Canada Wednesday\, October 30th at Casino NB-featuring keynote speaker Peter Mansbridge\, gourmet meal\, silent and live auctions. \nWe have a variety of amazing silent and live auction items\, their is sure to be something there for everyone.  We will have them on line three weeks prior to the event so people can get their bids in \nWe are happy to have Katie Doiron Art there to do a live painting that will be auctioned off at the end of the evening. \nVisit www.sonbgala.ca to book your tickets today! \n  \n  \n
URL:https://k945.ca/event/sky-is-the-limit-special-olympics-gala/
ATTACH;FMTTYPE=image/png:https://k945.ca/wp-content/uploads/sites/7/2019/09/SONB-Gala.png
END:VEVENT
END:VCALENDAR