BEGIN:VCALENDAR
VERSION:2.0
PRODID:-//K94.5 - ECPv4.6.26//NONSGML v1.0//EN
CALSCALE:GREGORIAN
METHOD:PUBLISH
X-WR-CALNAME:K94.5
X-ORIGINAL-URL:https://k945.ca
X-WR-CALDESC:Events for K94.5
BEGIN:VEVENT
DTSTART;TZID=America/Halifax:20161116T130000
DTEND;TZID=America/Halifax:20161116T143000
DTSTAMP:20260420T181729
CREATED:20161026T173009Z
LAST-MODIFIED:20161026T181829Z
UID:2421-1479301200-1479306600@k945.ca
SUMMARY:Sobeys Nutrition Class
DESCRIPTION:Get your health questions answered in a supportive group environment at Sobeys Elmwood Drive. Learn 5 secrets to lower blood sugars. This is a free class. Wednesday\, November 16th from 1-2:30pm. \nhttp://www.sobeys.com/en/?f=901 \n
URL:https://k945.ca/event/sobeys-nutrition-class/
END:VEVENT
END:VCALENDAR