BEGIN:VCALENDAR
VERSION:2.0
PRODID:-//K94.5 - ECPv4.6.26//NONSGML v1.0//EN
CALSCALE:GREGORIAN
METHOD:PUBLISH
X-WR-CALNAME:K94.5
X-ORIGINAL-URL:https://k945.ca
X-WR-CALDESC:Events for K94.5
BEGIN:VEVENT
DTSTART;TZID=America/Halifax:20170304T080000
DTEND;TZID=America/Halifax:20170304T170000
DTSTAMP:20260423T141640
CREATED:20170104T152822Z
LAST-MODIFIED:20170104T185859Z
UID:2825-1488614400-1488646800@k945.ca
SUMMARY:GoodLife Spin4Kids
DESCRIPTION:On Saturday\, March 4th\, spin\, groove and move at Spin4Kids\, a fitness fundraiser organized by GoodLife Kids Foundation to support programs getting kids active across Canada! What moves YOU? Help kids live happier\, healthier lives! Register today at http://spin4kids.com \n
URL:https://k945.ca/event/spin4kids-organized-by-goodlife-kids-foundation/
ATTACH;FMTTYPE=image/jpeg:https://k945.ca/wp-content/uploads/sites/7/2017/01/Spin4Kidz.jpg
END:VEVENT
END:VCALENDAR