BEGIN:VCALENDAR
VERSION:2.0
PRODID:-//K94.5 - ECPv4.6.26//NONSGML v1.0//EN
CALSCALE:GREGORIAN
METHOD:PUBLISH
X-WR-CALNAME:K94.5
X-ORIGINAL-URL:https://k945.ca
X-WR-CALDESC:Events for K94.5
BEGIN:VEVENT
DTSTART;TZID=America/Halifax:20190525T083000
DTEND;TZID=America/Halifax:20190525T130000
DTSTAMP:20260423T100417
CREATED:20190509T134953Z
LAST-MODIFIED:20190509T134953Z
UID:10352-1558773000-1558789200@k945.ca
SUMMARY:Spring Rummage Sale
DESCRIPTION:There will be a Spring Rummage Sale on Saturday\, May 25th from 8:30am-1:00pm at the St. John’s United Church\, 75 Alma St. (basement entrance). Something for everyone. You don’t want to miss it! \n
URL:https://k945.ca/event/spring-rummage-sale-2/
END:VEVENT
END:VCALENDAR