BEGIN:VCALENDAR
VERSION:2.0
PRODID:-//K94.5 - ECPv4.6.26//NONSGML v1.0//EN
CALSCALE:GREGORIAN
METHOD:PUBLISH
X-WR-CALNAME:K94.5
X-ORIGINAL-URL:https://k945.ca
X-WR-CALDESC:Events for K94.5
BEGIN:VEVENT
DTSTART;VALUE=DATE:20200920
DTEND;VALUE=DATE:20200921
DTSTAMP:20260423T112148
CREATED:20200708T155154Z
LAST-MODIFIED:20200708T155414Z
UID:14762-1600560000-1600646399@k945.ca
SUMMARY:Terry Fox Run 40th Anniversary
DESCRIPTION:This year is the 40th anniversary of Terry’s Marathon of Hope! \nTo register\, just go to https://terryfox.org/run/. The date is September 20th and it’s One Day\, Your Way because cancer research cannot wait for COVID-19 to be over. This year’s hashtag is #TryLikeTerry\, and we are using it on all of our social medias\, so when you sign up\, feel free to make a post and use our hashtag! \n
URL:https://k945.ca/event/terry-fox-run-40th-anniversary/
ATTACH;FMTTYPE=image/jpeg:https://k945.ca/wp-content/uploads/sites/7/2020/07/Terry-Fox.jpg
END:VEVENT
END:VCALENDAR