BEGIN:VCALENDAR
VERSION:2.0
PRODID:-//K94.5 - ECPv4.6.26//NONSGML v1.0//EN
CALSCALE:GREGORIAN
METHOD:PUBLISH
X-WR-CALNAME:K94.5
X-ORIGINAL-URL:https://k945.ca
X-WR-CALDESC:Events for K94.5
BEGIN:VEVENT
DTSTART;TZID=America/Halifax:20250723T110000
DTEND;TZID=America/Halifax:20250723T110000
DTSTAMP:20260425T183823
CREATED:20250715T110229Z
LAST-MODIFIED:20250715T110229Z
UID:21784-1753268400-1753268400@k945.ca
SUMMARY:The 3rd Nails & Coffee Event
DESCRIPTION:\n\n\n\n\nEvent by MAGMA – AMGM\n\n\n\n\n\n\n\n\n\n\n\nMAGMA – AMGM\n\n\n\n\n\n\n\n\n\n\n\n\n\n\nJoin Us for the Third Coffee & Nails Event!————————————————-After the success of our first two events\, we are thrilled to invite you to another relaxing morning of nail painting\, engaging conversations\, and delightful coffee. Connect with amazing women in the community and unwind in a welcoming atmosphere.\nEvent Highlights:——————-Relax & Unwind: Take a break from your busy routine and indulge in a soothing nail painting session.Meet New People: Share stories\, bond with other women\, and make new friends in a friendly and inclusive space.Eligibility: Open to MAGMA women clients of any age who are permanent residents.\nImportant Details:——————–Spots are Limited: Secure your place by registering now!Registration Link: https://forms.office.com/r/gae27rJUBFOr email nubia.esteban@magma-amgm.org\nNote: Attendees will receive bus tickets upon request.\nWe look forward to seeing you there!\n\n\n
URL:https://k945.ca/event/the-3rd-nails-coffee-event/
ATTACH;FMTTYPE=image/jpeg:https://k945.ca/wp-content/uploads/sites/7/2025/07/515569125_1165585185613139_2914143470679363738_n.jpg
END:VEVENT
END:VCALENDAR