BEGIN:VCALENDAR
VERSION:2.0
PRODID:-//K94.5 - ECPv4.6.26//NONSGML v1.0//EN
CALSCALE:GREGORIAN
METHOD:PUBLISH
X-WR-CALNAME:K94.5
X-ORIGINAL-URL:https://k945.ca
X-WR-CALDESC:Events for K94.5
BEGIN:VEVENT
DTSTART;TZID=America/Halifax:20161128T080000
DTEND;TZID=America/Halifax:20161217T170000
DTSTAMP:20260421T102017
CREATED:20161123T131816Z
LAST-MODIFIED:20161123T131816Z
UID:2689-1480320000-1481994000@k945.ca
SUMMARY:The Angels Remembered Campaign
DESCRIPTION:Hospice Greater Moncton invites you to place an angel ornament with your loved ones name on one of their Christmas trees in exchange for a donation. The contributions help support the palliative care services and the residential building fund. \nYou can visit the trees: Nov. 28- Dec. 2 at Walmart\, Plaza Blvd. \nDec. 5-17 at Walmart Champlain \nThe Hospice Shoppe\, 164 Collishaw St.\, Moncton \nYou can also honor a loved one with a paper angel at any 3 Greater Moncton Kent Supplies stores until Christmas eve. \n
URL:https://k945.ca/event/the-angels-remembered-campaign/
END:VEVENT
END:VCALENDAR