BEGIN:VCALENDAR
VERSION:2.0
PRODID:-//K94.5 - ECPv4.6.26//NONSGML v1.0//EN
CALSCALE:GREGORIAN
METHOD:PUBLISH
X-WR-CALNAME:K94.5
X-ORIGINAL-URL:https://k945.ca
X-WR-CALDESC:Events for K94.5
BEGIN:VEVENT
DTSTART;TZID=America/Halifax:20161209T193000
DTEND;TZID=America/Halifax:20161209T210000
DTSTAMP:20260423T111916
CREATED:20161121T133027Z
LAST-MODIFIED:20161208T201220Z
UID:2685-1481311800-1481317200@k945.ca
SUMMARY:The Metrotones
DESCRIPTION:Ring in Christmas with the Metrotones in support of the Food Depot Alimentaire Inc. The concert will be on Friday\, December 9th at 7:30pm at the Wesleyan Celebration Centre- 945 St. George Blvd. Admission is $10 plus non- perishable food items. \n\nShow is Sold Out *\n\n
URL:https://k945.ca/event/the-metrotones/
END:VEVENT
END:VCALENDAR