BEGIN:VCALENDAR
VERSION:2.0
PRODID:-//K94.5 - ECPv4.6.26//NONSGML v1.0//EN
CALSCALE:GREGORIAN
METHOD:PUBLISH
X-WR-CALNAME:K94.5
X-ORIGINAL-URL:https://k945.ca
X-WR-CALDESC:Events for K94.5
BEGIN:VEVENT
DTSTART;VALUE=DATE:20230324
DTEND;VALUE=DATE:20230327
DTSTAMP:20260423T112825
CREATED:20230320T131913Z
LAST-MODIFIED:20230320T131942Z
UID:18488-1679616000-1679875199@k945.ca
SUMMARY:The Moncton Boat & Sportsmen Show
DESCRIPTION:New Brunswick’s largest event for boating\, angling\, fly fishing\, hunting and the outdoors! \nFrom March 24-26\, 2023\, the Moncton Coliseum will be transformed into a one-stop marketplace for all things boating\, fishing\, hunting\, and outdoor adventures. Don’t miss out on the chance to explore the latest in boats\, boating equipment\, docks\, accessories\, fishing gear\, fly fishing\, hunting\, and much more. \nFriday\, March 24\n10:00am – 9:00pm \nSaturday\, March 25\n10:00am – 7:00pm \nSunday\, March 26\n10:00am – 5:00pm \nhttp://www.monctonbss.ca/ \n
URL:https://k945.ca/event/the-moncton-boat-sportsmen-show/
LOCATION:Moncton Coliseum\, 377 Killam Drive\, Moncton\, E1C 3T1
ATTACH;FMTTYPE=image/jpeg:https://k945.ca/wp-content/uploads/sites/7/2023/03/MBSS-header-2023.jpg
END:VEVENT
END:VCALENDAR