BEGIN:VCALENDAR
VERSION:2.0
PRODID:-//K94.5 - ECPv4.6.26//NONSGML v1.0//EN
CALSCALE:GREGORIAN
METHOD:PUBLISH
X-WR-CALNAME:K94.5
X-ORIGINAL-URL:https://k945.ca
X-WR-CALDESC:Events for K94.5
BEGIN:VEVENT
DTSTART;TZID=America/Halifax:20170812T070000
DTEND;TZID=America/Halifax:20170812T203000
DTSTAMP:20260424T111750
CREATED:20170607T201631Z
LAST-MODIFIED:20170607T202133Z
UID:4664-1502521200-1502569800@k945.ca
SUMMARY:The Olate Dogs Tour
DESCRIPTION:K94.5 is proud to present:\nThe Olate Dogs “Winners of America’s Got Talent”\nSaturday\, August 12\, 2017 7:00 PM at the Moncton Wesleyan Celebration Centre \n\n\n\n\n \n\nVaughnCo Entertainment is very proud to announce this special family show. Quality entertainment for all ages is something we take great pride in\, and this event\, we know will embrace dog lovers all across Atlantic Canada for children and children at heart \nCheck out the Promotional Video \nStart 7:00 pm Doors open 6:00 pm \n\n\n\nTickets are on sale now at TicketWindow.ca! \nVIP $46.00 + HST\nRegular $34.00 + HST\nStudent/Child (18 yrs and under) $29.00 + HST \n\n\n\n\n\n
URL:https://k945.ca/event/the-olate-dogs-tour/
ATTACH;FMTTYPE=image/png:https://k945.ca/wp-content/uploads/sites/7/2017/06/OLATEDOGS.png
END:VEVENT
END:VCALENDAR