BEGIN:VCALENDAR
VERSION:2.0
PRODID:-//K94.5 - ECPv4.6.26//NONSGML v1.0//EN
CALSCALE:GREGORIAN
METHOD:PUBLISH
X-WR-CALNAME:K94.5
X-ORIGINAL-URL:https://k945.ca
X-WR-CALDESC:Events for K94.5
BEGIN:VEVENT
DTSTART;TZID=America/Halifax:20260404T193000
DTEND;TZID=America/Halifax:20260404T193000
DTSTAMP:20260423T095923
CREATED:20260324T135859Z
LAST-MODIFIED:20260324T135859Z
UID:22624-1775331000-1775331000@k945.ca
SUMMARY:The Snowed In Comedy Tour
DESCRIPTION:\n\n\n\n\nEvent by Snowed In Comedy Tour and Théâtre Capitol Theatre\n\n\n\n\n\n\n\n\n\n\n\n\nThéâtre Capitol Theatre\n\n\n\n\n\n\n\n\n\nThe Snowed In Comedy Tour is back — bigger\, bolder\, and funnier than ever!What started 17 years ago as a wild idea in the middle of a Canadian winter has snowballed into a full-blown national phenomenon — now the biggest comedy tour in Canada. This year\, the laughs roll coast-to-coast across 70 cities\, bringing world-class comedy straight to your backyard.And the fun doesn’t stop there. Starting October 10th\, you can catch the Snowed In crew on Chek TV every Saturday night\, and a few days later on YouTube (Oct 14th) with their brand-new laugh-out-loud series. (https://www.youtube.com/@snowedincomedy) Follow them as they dive into five unforgettable tour stops\, capped off with their side-splitting stand-up specials.The lineup? Nothing short of powerhouse.• Dan Quinn – Just for Laughs winner and tour founder.• Paul Myrehaug – Great Canadian Laugh Off champion.• Pete Zedlacher – 6-time Canadian Comedian of the Year nominee.• Erica Sigurdson – beloved Debaters regular with over 70 appearances.Four international comics. One stage. A blizzard of laughs. Critics call it “Better than the Just for Laughs Tour” and “A Flurry of Laughs You Can’t Miss.”Don’t just get through winter — laugh your way through it with the Snowed In Comedy Tour.\n\n\n
URL:https://k945.ca/event/the-snowed-in-comedy-tour/
ATTACH;FMTTYPE=image/jpeg:https://k945.ca/wp-content/uploads/sites/7/2026/03/558401318_1384564889696539_7544075894233859915_n.jpg
END:VEVENT
END:VCALENDAR