BEGIN:VCALENDAR
VERSION:2.0
PRODID:-//K94.5 - ECPv4.6.26//NONSGML v1.0//EN
CALSCALE:GREGORIAN
METHOD:PUBLISH
X-WR-CALNAME:K94.5
X-ORIGINAL-URL:https://k945.ca
X-WR-CALDESC:Events for K94.5
BEGIN:VEVENT
DTSTART;TZID=America/Halifax:20230518T180000
DTEND;TZID=America/Halifax:20230518T220000
DTSTAMP:20260424T083529
CREATED:20230510T002525Z
LAST-MODIFIED:20230510T002655Z
UID:18865-1684432800-1684447200@k945.ca
SUMMARY:Together - Moncton Headstart Gala
DESCRIPTION:Moncton Headstart cordially invites you to their inaugural Gala; “Together\, a night in support of Moncton Headstart” May 18th at the Delta Beausejour! \nThis is a semi-formal attire evening filled with camaraderie — delicious food\, stimulating conversation and live music from Sistema NB\, as you hear from former Deputy Advocate and Senior Legal Counsel at the New Brunswick Office of the Child and Youth Advocate\, now Deputy Ombud and General Counsel with the NB Office of the Ombud\, Christian Whalen. \n“At Moncton Headstart\, we care about children and families as we believe ‘All Kids Deserve a Headstart.’ Helping children prosper is critical work. By attending this Gala Evening\, your support helps us provide for the most vulnerable young children and their families in our community.” \nThe funds raised from this Gala evening will help bridge the gap between funding for programs and operating expenses needed to run Moncton Headstart. \nTicket info & VIP Experience details: Moncton Headstart \n*Receive a $100 Charitable Tax Receipt with ticket purchase \n
URL:https://k945.ca/event/together-moncton-headstart-2023/
ATTACH;FMTTYPE=image/png:https://k945.ca/wp-content/uploads/sites/7/2023/05/togeth.png
END:VEVENT
END:VCALENDAR