BEGIN:VCALENDAR
VERSION:2.0
PRODID:-//K94.5 - ECPv4.6.26//NONSGML v1.0//EN
CALSCALE:GREGORIAN
METHOD:PUBLISH
X-WR-CALNAME:K94.5
X-ORIGINAL-URL:https://k945.ca
X-WR-CALDESC:Events for K94.5
BEGIN:VEVENT
DTSTART;TZID=America/Halifax:20260506T190000
DTEND;TZID=America/Halifax:20260506T220000
DTSTAMP:20260421T151012
CREATED:20260325T105826Z
LAST-MODIFIED:20260325T105826Z
UID:22656-1778094000-1778104800@k945.ca
SUMMARY:Tough Guy Book Club
DESCRIPTION:\n\n\n\n\nEvent by Tough Guy Book Club\n\n\n\n\n\n\n\n\n\n\n\n\nChris Rock Tavern\n\n\n\n\n\n\n\n\n\n\n\n\nDuration: 3 hr\n\n\n\n\n\n\n\n\n\n\n\n\n\n\nJoin us for the Moncton NB Chapter of Tough Guy Book Club.\nYou can find out this month’s book here https://toughguybookclub.com/books\nIf you have the chance\, try to pick up the book and read a couple of pages before the night. If you haven’t\, come anyway\, no one gives a damn. We are not your boss.\nIf you got one\, make sure to bring your copy of the books down\, it’ll help you talk about bits of it\, we suggest underlining stuff that sticks out to you as important.\nAlso like all months\, we will be announcing next month’s book at the meeting and handing them out to those of you who were wise enough to pre-order last month.\nSee you there.\nWant to know more about Tough Guy Book Club? Read this – http://toughguybookclub.com/about-us\n\n\n
URL:https://k945.ca/event/tough-guy-book-club-5/
ATTACH;FMTTYPE=image/jpeg:https://k945.ca/wp-content/uploads/sites/7/2026/03/516454146_757555483496262_7831944445473550907_n-1.jpg
END:VEVENT
END:VCALENDAR