BEGIN:VCALENDAR
VERSION:2.0
PRODID:-//K94.5 - ECPv4.6.26//NONSGML v1.0//EN
CALSCALE:GREGORIAN
METHOD:PUBLISH
X-WR-CALNAME:K94.5
X-ORIGINAL-URL:https://k945.ca
X-WR-CALDESC:Events for K94.5
BEGIN:VEVENT
DTSTART;TZID=America/Halifax:20161118T180000
DTEND;TZID=America/Halifax:20161118T220000
DTSTAMP:20260421T014347
CREATED:20161027T185450Z
LAST-MODIFIED:20161115T133409Z
UID:2471-1479492000-1479506400@k945.ca
SUMMARY:Trees for a Brighter Future
DESCRIPTION:There will be a “Trees for a Brighter Future” Gala in support of the Greater Moncton Association for Community Living (GMACL) on Friday\, November 18th at the Delta Beausejour. Christmas trees will be decorated by corporations which will be on display at Assumption Place and then auctioned off at the Gala. There will also be a dinner and dance with DJ Terry Parker from Entertainment Plus. The Greater Moncton Association for Community Living invites all local businesses and groups to decorate the Christmas trees! Tickets are $75 per person\, $550 for a table of 8 and $650 for a table of 10. All for a great cause! To reserve your tickets\, please call 857-8899 \n
URL:https://k945.ca/event/trees-for-a-brighter-future/
END:VEVENT
END:VCALENDAR