BEGIN:VCALENDAR
VERSION:2.0
PRODID:-//K94.5 - ECPv4.6.26//NONSGML v1.0//EN
CALSCALE:GREGORIAN
METHOD:PUBLISH
X-WR-CALNAME:K94.5
X-ORIGINAL-URL:https://k945.ca
X-WR-CALDESC:Events for K94.5
BEGIN:VEVENT
DTSTART;TZID=America/Halifax:20171028T140000
DTEND;TZID=America/Halifax:20171028T170000
DTSTAMP:20260424T100756
CREATED:20171024T122549Z
LAST-MODIFIED:20171024T122549Z
UID:6122-1509199200-1509210000@k945.ca
SUMMARY:Twisted Tales Halloween Spook House
DESCRIPTION:The Port Elgin Home and School will be having a Twisted Tales Halloween Spook House on Saturday\, October 28th\, 3716 Highway 16 in Melrose\, N.B. There will be one showing from 2-5 for the younger ones and another one from 6-9:30 for older ones. Admission is $5 for children ages 8 and under and $10 for 9 and up with treat bags. Money raised will go towards a new playground for the school. \n
URL:https://k945.ca/event/twisted-tales-halloween-spook-house/
END:VEVENT
END:VCALENDAR