BEGIN:VCALENDAR
VERSION:2.0
PRODID:-//K94.5 - ECPv4.6.26//NONSGML v1.0//EN
CALSCALE:GREGORIAN
METHOD:PUBLISH
X-WR-CALNAME:K94.5
X-ORIGINAL-URL:https://k945.ca
X-WR-CALDESC:Events for K94.5
BEGIN:VEVENT
DTSTART;TZID=America/Halifax:20230718T190000
DTEND;TZID=America/Halifax:20230718T190000
DTSTAMP:20260423T100518
CREATED:20230726T153900Z
LAST-MODIFIED:20230726T153900Z
UID:19681-1689706800-1689706800@k945.ca
SUMMARY:Walk Off The Earth
DESCRIPTION:Join the Heart and Stroke Foundation of New Brunswick for an incredible evening of entertainment! We are proud announce the return of Walk Off the Earth as part of our Concert Series. Doors open at 7pm. Come early to have your picture taken with friends and place bids at our silent auction. Make a donation in the envelopes provided and you could win a chance to meet the band. \n
URL:https://k945.ca/event/walk-off-the-earth-2/
ATTACH;FMTTYPE=image/png:https://k945.ca/wp-content/uploads/sites/7/2023/07/WOTE-1080x1080-1.png
END:VEVENT
END:VCALENDAR