BEGIN:VCALENDAR
VERSION:2.0
PRODID:-//K94.5 - ECPv4.6.26//NONSGML v1.0//EN
CALSCALE:GREGORIAN
METHOD:PUBLISH
X-WR-CALNAME:K94.5
X-ORIGINAL-URL:https://k945.ca
X-WR-CALDESC:Events for K94.5
BEGIN:VEVENT
DTSTART;TZID=America/Halifax:20250618T183000
DTEND;TZID=America/Halifax:20250618T203000
DTSTAMP:20260423T100556
CREATED:20250523T111614Z
LAST-MODIFIED:20250523T111614Z
UID:21556-1750271400-1750278600@k945.ca
SUMMARY:Wednesday Night Walk
DESCRIPTION:Wednesday Night WalkDate: June 18\, 2025\, 6:30 PMLocation: Humphreys Brook TrailMeeting place: Harrisville Blvd. entrance of the Humphreys Brook Trail (Look for the Nature Moncton sign)Leader: Lynda Leclerc\nJoin us for Nature Moncton’s first Wednesday night walk for the 2025 summer season! We will be walking the first 2 KM’s of the Humphreys Brook Trail. This walk will be easy on a wide\, level\, and well-groomed trail.\nAt the beginning of our walk\, we’ll see a man-made lake where waterfowl and green frogs are often evident. Along the trail and brook\, there will be lots of wooded areas and plant life to see. Depending on the time of day\, many birds can be seen or heard. There may be many mosquitoes too\, so plan accordingly! If you have a Nature Moncton name tag\, please wear that too! All are welcome\, Nature Moncton members or not.\nDirections: Via the eastbound Trans Canada Highway\, take Exit 462 at the Caledonia Industrial Park. Turn right at the stop sign onto Harrisville Blvd and drive 0.6 KM. The trail head entrance is on the right. There isn’t a parking lot\, therefore\, please park on the widened gravel shoulder.\nVia the westbound Trans Canada Highway\, take Exit 462 at the Caledonia Industrial Park. Turn left at the stop sign onto Harrisville Blvd. Drive 0.8 KM to the trail entrance on the right and park on the shoulder of the road.\nVia Shediac Rd.\, drive 1.1 KM’s east from Stirling Apples and turn left at the traffic lights onto Harrisville Blvd. Drive 0.7 KM to the trail entrance which is on the left. You can park on either side of the road.\n
URL:https://k945.ca/event/wednesday-night-walk/
ATTACH;FMTTYPE=image/jpeg:https://k945.ca/wp-content/uploads/sites/7/2025/05/492199370_626976443673985_2220587157664150736_n.jpg
END:VEVENT
END:VCALENDAR