BEGIN:VCALENDAR
VERSION:2.0
PRODID:-//K94.5 - ECPv4.6.26//NONSGML v1.0//EN
CALSCALE:GREGORIAN
METHOD:PUBLISH
X-WR-CALNAME:K94.5
X-ORIGINAL-URL:https://k945.ca
X-WR-CALDESC:Events for K94.5
BEGIN:VEVENT
DTSTART;TZID=America/Halifax:20180808T183000
DTEND;TZID=America/Halifax:20180808T203000
DTSTAMP:20260424T153115
CREATED:20180605T175013Z
LAST-MODIFIED:20180605T175013Z
UID:6935-1533753000-1533760200@k945.ca
SUMMARY:Wednesday Show @ Place 1604
DESCRIPTION:Gabrielle Goulet and Big Bad Party Band will be performing tonight\, August 8th at 6:30pm @ Place 1604\, 243 Gauvin Rd. in Dieppe. \n
URL:https://k945.ca/event/wednesday-show-place-1604-6/
END:VEVENT
END:VCALENDAR