BEGIN:VCALENDAR
VERSION:2.0
PRODID:-//K94.5 - ECPv4.6.26//NONSGML v1.0//EN
CALSCALE:GREGORIAN
METHOD:PUBLISH
X-WR-CALNAME:K94.5
X-ORIGINAL-URL:https://k945.ca
X-WR-CALDESC:Events for K94.5
BEGIN:VEVENT
DTSTART;TZID=America/Halifax:20190615T110000
DTEND;TZID=America/Halifax:20190615T160000
DTSTAMP:20260424T094654
CREATED:20190613T190549Z
LAST-MODIFIED:20190614T120135Z
UID:10773-1560596400-1560614400@k945.ca
SUMMARY:Scotia Wealth Management Downtown Wishmaker Mini Putt
DESCRIPTION:The Scotia Wealth Management Downtown Wishmaker Mini Putt will be taking place on Saturday\, June 15th! \nEnjoy a fun-filled day putting your way at various businesses along downtown Moncton and support a great cause! Money raised goes directly to the Children’s Wish Foundation\, providing children with life-threatening illnesses the opportunity to realize their most heartfelt wish! \nBuild a team of co-workers & friends and help raise money for a very worthwhile cause! \nTeams will receive 2-for-1 drink tickets; some businesses will even be dishing out some free snacks and beverages along the way! \nRegistration is from 11am-12pm at the Delta Beausejour\, with Tee-Off happening at 12pm! \nAt 4pm\, prizes and awards will be at the Old Triangle Irish Alehouse. \nNOTE: $240 minimum pledge required per team. \n  \nRegister your team now: ChildrensWish.ca – Downtown Wishmaker Mini Putt \n
URL:https://k945.ca/event/wishmaker-mini-putt/
ATTACH;FMTTYPE=image/jpeg:https://k945.ca/wp-content/uploads/sites/7/2019/06/scotia.jpg
END:VEVENT
END:VCALENDAR