BEGIN:VCALENDAR
VERSION:2.0
PRODID:-//K94.5 - ECPv4.6.26//NONSGML v1.0//EN
CALSCALE:GREGORIAN
METHOD:PUBLISH
X-WR-CALNAME:K94.5
X-ORIGINAL-URL:https://k945.ca
X-WR-CALDESC:Events for K94.5
BEGIN:VEVENT
DTSTART;TZID=America/Halifax:20260827T130000
DTEND;TZID=America/Halifax:20260829T230000
DTSTAMP:20260421T230557
CREATED:20260408T113419Z
LAST-MODIFIED:20260408T113442Z
UID:22844-1787835600-1788044400@k945.ca
SUMMARY:YQM Country Fest
DESCRIPTION:\n\n\n\n\nEvent by YQM Country Fest\n\n\n\n\n\n\n\n\n\n\n\n\n475 Notre-Dame Street\, Dieppe\, NB\, Canada\n\n\n\n\n\n\n\n\n\nThree day country music festival in Dieppe\, NB\, Canada. Featuring superstars Post Malone\, Eric Church\, Zach Top and many more!\nGet tickets here \n\n\n
URL:https://k945.ca/event/yqm-country-fest/
ATTACH;FMTTYPE=image/jpeg:https://k945.ca/wp-content/uploads/sites/7/2026/04/540720834_1110610371256576_6783310825270694872_n.jpg
END:VEVENT
END:VCALENDAR