BEGIN:VCALENDAR
VERSION:2.0
PRODID:-//K94.5 - ECPv4.6.26//NONSGML v1.0//EN
CALSCALE:GREGORIAN
METHOD:PUBLISH
X-WR-CALNAME:K94.5
X-ORIGINAL-URL:https://k945.ca
X-WR-CALDESC:Events for K94.5
BEGIN:VEVENT
DTSTART;TZID=America/Halifax:20260502T200000
DTEND;TZID=America/Halifax:20260502T200000
DTSTAMP:20260421T153130
CREATED:20260410T114155Z
LAST-MODIFIED:20260410T114155Z
UID:22860-1777752000-1777752000@k945.ca
SUMMARY:Yuk Yuks In Riverview!
DESCRIPTION:\n\n\n\n\nEvent by Yuk Yuk’s Halifax and Line Woods\n\n\n\n\n\n\n\n\n\n\n\nHoly Whale Beer Hall and Garden\n\n\n\n\n\n\n\n\n\n\n\n\n\n\n\nRIVERVIEW\, come out and experience a night of laughter with Yuk Yuks. See comedians from Just For Laughs\, CBC The Debaters and The Winnipeg Comedy Fest. Kick off your spring with your friends and family. Price is $25 plus tax.\n\nStarring:NICK BEATON:From a blue-collar background\, Nick Beaton cuts through the insanity of an overly bureaucratic society that takes itself way too seriously. Whether it’s done through his opinionated rants\, hard-hitting jokes\, or his disarming “every man” personality Nick Beaton is a favourite wherever he performs. He has performed on 4 continents\, 7 countries\, and over 40 cities. His run at the Edinburgh Festival received glowing five star reviews from both Broadway Baby and Three Weeks\, the latter of which described him as having “enviable confidence\, timing\, and manner of a comedian with decades of experience beyond his years.”\nFRANCOIS WEBER:Award-winning stand-up comedian\, François Weber\, has appeared on CBC’s The Debaters and Laugh Out Loud and at the CBC Winnipeg Comedy Festival \,The Halifax Comedy Fest \,The Hubcap Comedy Festival\, and The LOL Comedy Festival in Sudbury\, Ont. His energetic story telling style strikes a chord with young and old\, clubs and conventions. Francois is originally from Northern Ontario\, however\, presently calls Halifax\, NS home.\nLINE WOODS:Line Woods is a performer in high demand as a stand-up comedian\, master of ceremonies\, screenwriter\, filmmaker and all-around hilarious storyteller. She performs all over the Maritimes in both official languages and proves that big laughs come in small packages. Line made history as the first woman ever to win the CBC Radio Open Mic Stand-Up Contest at the Hubcap Comedy Festival in Moncton in 2020. She has performed at the Hubcap Comedy Festival (Moncton) and Festival RIEN (Caraquet). She can be heard on SiriusXM and is featured on a Just for Laughs audio compilation album available on all streaming platforms. Line was the creator and head writer of a French television sketch comedy show that aired in 2022\, and is busy editing the same show for an English adaptation\n\nGet tickets here \n\n
URL:https://k945.ca/event/yuk-yuks-in-riverview/
ATTACH;FMTTYPE=image/jpeg:https://k945.ca/wp-content/uploads/sites/7/2026/04/1000028582.jpg
END:VEVENT
END:VCALENDAR