BEGIN:VCALENDAR
VERSION:2.0
PRODID:-//K94.5 - ECPv4.6.26//NONSGML v1.0//EN
CALSCALE:GREGORIAN
METHOD:PUBLISH
X-WR-CALNAME:K94.5
X-ORIGINAL-URL:https://k945.ca
X-WR-CALDESC:Events for K94.5
BEGIN:VEVENT
DTSTART;VALUE=DATE:20220415
DTEND;VALUE=DATE:20220416
DTSTAMP:20260423T200546
CREATED:20200305T144316Z
LAST-MODIFIED:20220228T140400Z
UID:17131-1649980800-1650067199@k945.ca
SUMMARY:GOOD FRIDAY
DESCRIPTION:Good Friday is a Christian holiday commemorating the crucifixion of Jesus and his death.   Observed on the Friday immediately preceding Easter Sunday \nGood Friday is a federal statutory holiday across Canada.. \n
URL:https://k945.ca/event/good-friday-2/
CATEGORIES:Observances
ATTACH;FMTTYPE=image/jpeg:https://k945.ca/wp-content/uploads/sites/7/2021/04/photo-1555892727-55b51e5fceae.jpg
END:VEVENT
END:VCALENDAR